Index of /checkResults/devel/bioc-LATEST/phenoTest/raw-results

[ICO]NameLast modifiedSizeDescription

[DIR]Parent Directory  -  
[   ]info.dcf22-May-2022 00:08 273  
[DIR]lconway/22-May-2022 00:08 -  
[DIR]nebbiolo2/22-May-2022 00:05 -  
[DIR]palomino4/22-May-2022 00:06 -