############################################################################## ############################################################################## ### ### Running command: ### ### C:\cygwin\bin\curl.exe -O http://155.52.207.166/BBS/3.16/bioc/src/contrib/phenoTest_1.45.0.tar.gz && rm -rf phenoTest.buildbin-libdir && mkdir phenoTest.buildbin-libdir && F:\biocbuild\bbs-3.16-bioc\R\bin\R.exe CMD INSTALL --merge-multiarch --build --library=phenoTest.buildbin-libdir phenoTest_1.45.0.tar.gz && F:\biocbuild\bbs-3.16-bioc\R\bin\R.exe CMD INSTALL phenoTest_1.45.0.zip && rm phenoTest_1.45.0.tar.gz phenoTest_1.45.0.zip ### ############################################################################## ############################################################################## % Total % Received % Xferd Average Speed Time Time Time Current Dload Upload Total Spent Left Speed 0 0 0 0 0 0 0 0 --:--:-- --:--:-- --:--:-- 0 4 972k 4 45177 0 0 733k 0 0:00:01 --:--:-- 0:00:01 735k 100 972k 100 972k 0 0 2503k 0 --:--:-- --:--:-- --:--:-- 2505k only one architecture so ignoring '--merge-multiarch' * installing *source* package 'phenoTest' ... ** using staged installation ** R ** data ** inst ** byte-compile and prepare package for lazy loading ** help *** installing help indices ** building package indices ** installing vignettes ** testing if installed package can be loaded from temporary location ** testing if installed package can be loaded from final location ** testing if installed package keeps a record of temporary installation path * MD5 sums packaged installation of 'phenoTest' as phenoTest_1.45.0.zip * DONE (phenoTest) * installing to library 'F:/biocbuild/bbs-3.16-bioc/R/library' package 'phenoTest' successfully unpacked and MD5 sums checked