Index of /checkResults/devel/bioc-LATEST/phenoTest/raw-results

[ICO]NameLast modifiedSizeDescription

[DIR]Parent Directory  -  
[DIR]nebbiolo2/04-Oct-2023 00:37 -  
[DIR]palomino4/04-Oct-2023 00:38 -  
[DIR]lconway/04-Oct-2023 00:39 -  
[   ]info.dcf04-Oct-2023 00:41 272  
[DIR]kunpeng2/04-Oct-2023 00:41 -