Index of /checkResults/devel/bioc-LATEST/musicatk/raw-results
Name
Last modified
Size
Description
Parent Directory
-
kunpeng2/
03-Oct-2023 00:40
-
info.dcf
03-Oct-2023 00:40
260
lconway/
03-Oct-2023 00:39
-
palomino4/
03-Oct-2023 00:37
-
nebbiolo2/
03-Oct-2023 00:36
-