![]() | Name | Last modified | Size | Description |
---|---|---|---|---|
![]() | Parent Directory | - | ||
![]() | buildsrc-out.txt | 03-Oct-2023 00:40 | 804 | |
![]() | buildsrc-summary.dcf | 03-Oct-2023 00:40 | 415 | |
![]() | checksrc-out.txt | 03-Oct-2023 00:40 | 3.7K | |
![]() | checksrc-summary.dcf | 03-Oct-2023 00:40 | 406 | |
![]() | install-out.txt | 03-Oct-2023 00:40 | 1.0K | |
![]() | install-summary.dcf | 03-Oct-2023 00:40 | 255 | |