Index of /checkResults/devel/bioc-LATEST/motifmatchr/raw-results
Name
Last modified
Size
Description
Parent Directory
-
info.dcf
31-May-2023 00:07
268
lconway/
31-May-2023 00:07
-
nebbiolo2/
31-May-2023 00:06
-
palomino4/
31-May-2023 00:06
-