![]() | Name | Last modified | Size | Description |
---|---|---|---|---|
![]() | Parent Directory | - | ||
![]() | buildsrc-out.txt | 29-Nov-2023 01:39 | 972 | |
![]() | buildsrc-summary.dcf | 29-Nov-2023 01:39 | 439 | |
![]() | checksrc-out.txt | 29-Nov-2023 01:39 | 4.1K | |
![]() | checksrc-summary.dcf | 29-Nov-2023 01:39 | 463 | |
![]() | install-out.txt | 29-Nov-2023 01:39 | 13K | |
![]() | install-summary.dcf | 29-Nov-2023 01:39 | 277 | |