![]() | Name | Last modified | Size | Description |
---|---|---|---|---|
![]() | Parent Directory | - | ||
![]() | buildsrc-out.txt | 04-Oct-2023 00:36 | 963 | |
![]() | buildsrc-summary.dcf | 04-Oct-2023 00:36 | 430 | |
![]() | checksrc-out.txt | 04-Oct-2023 00:36 | 4.2K | |
![]() | checksrc-summary.dcf | 04-Oct-2023 00:36 | 430 | |
![]() | install-out.txt | 04-Oct-2023 00:36 | 13K | |
![]() | install-summary.dcf | 04-Oct-2023 00:36 | 267 | |