Index of /checkResults/devel/bioc-LATEST/ctc/raw-results

[ICO]NameLast modifiedSizeDescription

[DIR]Parent Directory  -  
[   ]info.dcf05-Feb-2023 01:06 260  
[DIR]merida1/05-Feb-2023 01:06 -  
[DIR]nebbiolo1/05-Feb-2023 01:04 -  
[DIR]palomino3/05-Feb-2023 01:05 -