![]() | Name | Last modified | Size | Description |
---|---|---|---|---|
![]() | Parent Directory | - | ||
![]() | buildsrc-out.txt | 23-Sep-2023 00:36 | 790 | |
![]() | buildsrc-summary.dcf | 23-Sep-2023 00:36 | 404 | |
![]() | checksrc-out.txt | 23-Sep-2023 00:36 | 4.7K | |
![]() | checksrc-summary.dcf | 23-Sep-2023 00:36 | 397 | |
![]() | install-out.txt | 23-Sep-2023 00:36 | 948 | |
![]() | install-summary.dcf | 23-Sep-2023 00:36 | 250 | |