Index of /checkResults/devel/bioc-LATEST/ctc/raw-results/merida1

[ICO]NameLast modifiedSizeDescription

[DIR]Parent Directory  -  
[TXT]buildbin-out.txt18-Feb-2024 16:28 1.1K 
[   ]buildbin-summary.dcf18-Feb-2024 16:28 505  
[TXT]buildsrc-out.txt18-Feb-2024 16:28 800  
[   ]buildsrc-summary.dcf18-Feb-2024 16:28 415  
[TXT]checksrc-out.txt18-Feb-2024 16:28 4.7K 
[   ]checksrc-summary.dcf18-Feb-2024 16:28 427  
[TXT]install-out.txt18-Feb-2024 16:28 1.0K 
[   ]install-summary.dcf18-Feb-2024 16:28 260