Index of /checkResults/devel/bioc-LATEST/countsimQC/raw-results
Name
Last modified
Size
Description
Parent Directory
-
info.dcf
29-Sep-2023 00:40
281
kunpeng2/
29-Sep-2023 00:40
-
lconway/
29-Sep-2023 00:39
-
nebbiolo2/
29-Sep-2023 00:36
-
palomino4/
29-Sep-2023 00:37
-