Index of /checkResults/devel/bioc-LATEST/countsimQC/raw-results/merida1

[ICO]NameLast modifiedSizeDescription

[DIR]Parent Directory  -  
[TXT]buildbin-out.txt05-Feb-2023 01:06 1.2K 
[   ]buildbin-summary.dcf05-Feb-2023 01:06 549  
[TXT]buildsrc-out.txt05-Feb-2023 01:06 891  
[   ]buildsrc-summary.dcf05-Feb-2023 01:06 437  
[TXT]checksrc-out.txt05-Feb-2023 01:06 3.4K 
[   ]checksrc-summary.dcf05-Feb-2023 01:06 457  
[TXT]install-out.txt05-Feb-2023 01:06 1.0K 
[   ]install-summary.dcf05-Feb-2023 01:06 275