Index of /checkResults/devel/bioc-LATEST/countsimQC/raw-results/palomino3

[ICO]NameLast modifiedSizeDescription

[DIR]Parent Directory  -  
[TXT]buildbin-out.txt29-Feb-2024 01:37 1.1K 
[   ]buildbin-summary.dcf29-Feb-2024 01:37 533  
[TXT]buildsrc-out.txt29-Feb-2024 01:37 914  
[   ]buildsrc-summary.dcf29-Feb-2024 01:37 465  
[TXT]checksrc-out.txt29-Feb-2024 01:37 3.3K 
[   ]checksrc-summary.dcf29-Feb-2024 01:37 459  
[TXT]install-out.txt29-Feb-2024 01:37 1.0K 
[   ]install-summary.dcf29-Feb-2024 01:37 274