Index of /checkResults/devel/bioc-LATEST/coMET/raw-results

[ICO]NameLast modifiedSizeDescription

[DIR]Parent Directory  -  
[   ]info.dcf11-Jun-2023 00:09 267  
[DIR]kunpeng2/11-Jun-2023 00:09 -  
[DIR]lconway/11-Jun-2023 00:07 -  
[DIR]nebbiolo2/11-Jun-2023 00:05 -  
[DIR]palomino4/11-Jun-2023 00:06 -