![]() | Name | Last modified | Size | Description |
---|---|---|---|---|
![]() | Parent Directory | - | ||
![]() | buildsrc-out.txt | 03-Oct-2023 00:39 | 855 | |
![]() | buildsrc-summary.dcf | 03-Oct-2023 00:39 | 406 | |
![]() | checksrc-out.txt | 03-Oct-2023 00:39 | 6.2K | |
![]() | checksrc-summary.dcf | 03-Oct-2023 00:39 | 400 | |
![]() | install-out.txt | 03-Oct-2023 00:39 | 1.2K | |
![]() | install-summary.dcf | 03-Oct-2023 00:39 | 249 | |