Index of /checkResults/devel/bioc-LATEST/cicero/raw-results/nebbiolo2

[ICO]NameLast modifiedSizeDescription

[DIR]Parent Directory  -  
[TXT]buildsrc-out.txt07-Jul-2022 00:05 802  
[   ]buildsrc-summary.dcf07-Jul-2022 00:05 415  
[TXT]checksrc-out.txt07-Jul-2022 00:05 4.4K 
[   ]checksrc-summary.dcf07-Jul-2022 00:05 420  
[TXT]install-out.txt07-Jul-2022 00:05 1.0K 
[   ]install-summary.dcf07-Jul-2022 00:05 257