Index of /checkResults/devel/bioc-LATEST/cicero/raw-results

[ICO]NameLast modifiedSizeDescription

[DIR]Parent Directory  -  
[DIR]lconway/05-Jul-2022 00:07 -  
[DIR]nebbiolo2/05-Jul-2022 00:04 -  
[DIR]palomino4/05-Jul-2022 00:05 -  
[   ]info.dcf05-Jul-2022 00:07 258