Index of /checkResults/devel/bioc-LATEST/chromDraw/raw-results

[ICO]NameLast modifiedSizeDescription

[DIR]Parent Directory  -  
[   ]info.dcf29-Sep-2023 00:40 273  
[DIR]kunpeng2/29-Sep-2023 00:40 -  
[DIR]lconway/29-Sep-2023 00:39 -  
[DIR]nebbiolo2/29-Sep-2023 00:36 -  
[DIR]palomino4/29-Sep-2023 00:37 -