![]() | Name | Last modified | Size | Description |
---|---|---|---|---|
![]() | Parent Directory | - | ||
![]() | buildsrc-out.txt | 24-Sep-2023 00:39 | 838 | |
![]() | buildsrc-summary.dcf | 24-Sep-2023 00:39 | 417 | |
![]() | checksrc-out.txt | 24-Sep-2023 00:39 | 5.4K | |
![]() | checksrc-summary.dcf | 24-Sep-2023 00:39 | 416 | |
![]() | install-out.txt | 24-Sep-2023 00:39 | 13K | |
![]() | install-summary.dcf | 24-Sep-2023 00:39 | 257 | |