![]() | Name | Last modified | Size | Description |
---|---|---|---|---|
![]() | Parent Directory | - | ||
![]() | buildbin-out.txt | 29-Sep-2023 00:39 | 20K | |
![]() | buildbin-summary.dcf | 29-Sep-2023 00:39 | 542 | |
![]() | buildsrc-out.txt | 29-Sep-2023 00:39 | 854 | |
![]() | buildsrc-summary.dcf | 29-Sep-2023 00:39 | 433 | |
![]() | checksrc-out.txt | 29-Sep-2023 00:39 | 5.6K | |
![]() | checksrc-summary.dcf | 29-Sep-2023 00:39 | 457 | |
![]() | install-out.txt | 29-Sep-2023 00:39 | 17K | |
![]() | install-summary.dcf | 29-Sep-2023 00:39 | 273 | |