Index of /checkResults/devel/bioc-LATEST/appreci8R/raw-results

[ICO]NameLast modifiedSizeDescription

[DIR]Parent Directory  -  
[   ]info.dcf17-May-2022 00:07 281  
[DIR]lconway/17-May-2022 00:07 -  
[DIR]nebbiolo2/17-May-2022 00:04 -  
[DIR]palomino4/17-May-2022 00:05 -