Index of /checkResults/devel/bioc-LATEST/appreci8R/raw-results/nebbiolo2

[ICO]NameLast modifiedSizeDescription

[DIR]Parent Directory  -  
[TXT]buildsrc-out.txt02-Jul-2022 00:04 886  
[   ]buildsrc-summary.dcf02-Jul-2022 00:04 424  
[TXT]checksrc-out.txt02-Jul-2022 00:04 2.9K 
[   ]checksrc-summary.dcf02-Jul-2022 00:04 432  
[TXT]install-out.txt02-Jul-2022 00:04 953  
[   ]install-summary.dcf02-Jul-2022 00:04 263