Index of /checkResults/devel/bioc-LATEST/appreci8R/raw-results/palomino4

[ICO]NameLast modifiedSizeDescription

[DIR]Parent Directory  -  
[TXT]buildbin-out.txt25-Jun-2022 00:06 1.2K 
[   ]buildbin-summary.dcf25-Jun-2022 00:06 545  
[TXT]buildsrc-out.txt25-Jun-2022 00:06 919  
[   ]buildsrc-summary.dcf25-Jun-2022 00:06 461  
[TXT]checksrc-out.txt25-Jun-2022 00:06 3.0K 
[   ]checksrc-summary.dcf25-Jun-2022 00:06 458  
[TXT]install-out.txt25-Jun-2022 00:06 1.8K 
[   ]install-summary.dcf25-Jun-2022 00:06 646