Name | Last modified | Size | Description | |
---|---|---|---|---|
Parent Directory | - | |||
buildbin-out.txt | 04-May-2024 00:37 | 1.1K | ||
buildbin-summary.dcf | 04-May-2024 00:37 | 503 | ||
buildsrc-out.txt | 04-May-2024 00:37 | 829 | ||
buildsrc-summary.dcf | 04-May-2024 00:37 | 444 | ||
checksrc-out.txt | 04-May-2024 00:37 | 9.9K | ||
checksrc-summary.dcf | 04-May-2024 00:37 | 438 | ||
install-out.txt | 04-May-2024 00:37 | 1.0K | ||
install-summary.dcf | 04-May-2024 00:37 | 264 | ||