############################################################################## ############################################################################## ### ### Running command: ### ### C:\cygwin\bin\curl.exe -O http://155.52.207.166/BBS/3.16/bioc/src/contrib/anota_1.45.0.tar.gz && rm -rf anota.buildbin-libdir && mkdir anota.buildbin-libdir && F:\biocbuild\bbs-3.16-bioc\R\bin\R.exe CMD INSTALL --merge-multiarch --build --library=anota.buildbin-libdir anota_1.45.0.tar.gz && F:\biocbuild\bbs-3.16-bioc\R\bin\R.exe CMD INSTALL anota_1.45.0.zip && rm anota_1.45.0.tar.gz anota_1.45.0.zip ### ############################################################################## ############################################################################## % Total % Received % Xferd Average Speed Time Time Time Current Dload Upload Total Spent Left Speed 0 0 0 0 0 0 0 0 --:--:-- --:--:-- --:--:-- 0 100 414k 100 414k 0 0 3122k 0 --:--:-- --:--:-- --:--:-- 3141k only one architecture so ignoring '--merge-multiarch' * installing *source* package 'anota' ... ** using staged installation ** R ** data *** moving datasets to lazyload DB ** inst ** byte-compile and prepare package for lazy loading ** help *** installing help indices ** building package indices ** installing vignettes ** testing if installed package can be loaded from temporary location ** testing if installed package can be loaded from final location ** testing if installed package keeps a record of temporary installation path * MD5 sums packaged installation of 'anota' as anota_1.45.0.zip * DONE (anota) * installing to library 'F:/biocbuild/bbs-3.16-bioc/R/library' package 'anota' successfully unpacked and MD5 sums checked