Index of /checkResults/devel/bioc-LATEST/anota/raw-results/palomino4

[ICO]NameLast modifiedSizeDescription

[DIR]Parent Directory  -  
[TXT]buildbin-out.txt19-Aug-2022 00:06 1.2K 
[   ]buildbin-summary.dcf19-Aug-2022 00:06 521  
[TXT]buildsrc-out.txt19-Aug-2022 00:06 829  
[   ]buildsrc-summary.dcf19-Aug-2022 00:06 444  
[TXT]checksrc-out.txt19-Aug-2022 00:06 9.7K 
[   ]checksrc-summary.dcf19-Aug-2022 00:06 441  
[TXT]install-out.txt19-Aug-2022 00:06 1.8K 
[   ]install-summary.dcf19-Aug-2022 00:06 610