Index of /checkResults/devel/bioc-LATEST/adSplit/raw-results

[ICO]NameLast modifiedSizeDescription

[DIR]Parent Directory  -  
[DIR]kunpeng2/18-Feb-2024 16:29 -  
[DIR]merida1/18-Feb-2024 16:28 -  
[DIR]nebbiolo1/22-Feb-2024 02:52 -  
[DIR]palomino3/22-Feb-2024 02:53 -  
[   ]info.dcf22-Feb-2024 02:53 570