![]() | Name | Last modified | Size | Description |
---|---|---|---|---|
![]() | Parent Directory | - | ||
![]() | buildsrc-out.txt | 02-Jul-2022 00:04 | 899 | |
![]() | buildsrc-summary.dcf | 02-Jul-2022 00:04 | 418 | |
![]() | checksrc-out.txt | 02-Jul-2022 00:04 | 4.1K | |
![]() | checksrc-summary.dcf | 02-Jul-2022 00:04 | 424 | |
![]() | install-out.txt | 02-Jul-2022 00:04 | 1.4K | |
![]() | install-summary.dcf | 02-Jul-2022 00:04 | 259 | |