Index of /checkResults/devel/bioc-LATEST/adSplit/raw-results/lconway

[ICO]NameLast modifiedSizeDescription

[DIR]Parent Directory  -  
[TXT]buildbin-out.txt01-Jul-2022 00:07 2.5K 
[   ]buildbin-summary.dcf01-Jul-2022 00:07 530  
[TXT]buildsrc-out.txt01-Jul-2022 00:07 909  
[   ]buildsrc-summary.dcf01-Jul-2022 00:07 428  
[TXT]checksrc-out.txt01-Jul-2022 00:07 4.2K 
[   ]checksrc-summary.dcf01-Jul-2022 00:07 444  
[TXT]install-out.txt01-Jul-2022 00:07 1.6K 
[   ]install-summary.dcf01-Jul-2022 00:07 269