![]() | Name | Last modified | Size | Description |
---|---|---|---|---|
![]() | Parent Directory | - | ||
![]() | buildsrc-out.txt | 29-Nov-2023 01:39 | 898 | |
![]() | buildsrc-summary.dcf | 29-Nov-2023 01:39 | 441 | |
![]() | checksrc-out.txt | 29-Nov-2023 01:39 | 6.9K | |
![]() | checksrc-summary.dcf | 29-Nov-2023 01:39 | 473 | |
![]() | install-out.txt | 29-Nov-2023 01:39 | 1.0K | |
![]() | install-summary.dcf | 29-Nov-2023 01:39 | 278 | |