Index of /checkResults/devel/bioc-LATEST/TAPseq/raw-results
Name
Last modified
Size
Description
Parent Directory
-
kunpeng2/
10-Jun-2023 01:37
-
lconway/
10-Jun-2023 01:36
-
nebbiolo2/
10-Jun-2023 01:35
-
palomino4/
09-Jun-2023 02:05
-
info.dcf
10-Jun-2023 01:37
278