Index of /checkResults/devel/bioc-LATEST/TAPseq/raw-results/kunpeng2

[ICO]NameLast modifiedSizeDescription

[DIR]Parent Directory  -  
[TXT]buildsrc-out.txt03-Dec-2023 01:39 1.2K 
[   ]buildsrc-summary.dcf03-Dec-2023 01:39 341  
[TXT]install-out.txt03-Dec-2023 01:39 1.3K 
[   ]install-summary.dcf03-Dec-2023 01:39 266