![]() | Name | Last modified | Size | Description |
---|---|---|---|---|
![]() | Parent Directory | - | ||
![]() | buildbin-out.txt | 24-Sep-2023 00:38 | 1.4K | |
![]() | buildbin-summary.dcf | 24-Sep-2023 00:38 | 509 | |
![]() | buildsrc-out.txt | 24-Sep-2023 00:38 | 894 | |
![]() | buildsrc-summary.dcf | 24-Sep-2023 00:38 | 449 | |
![]() | checksrc-out.txt | 24-Sep-2023 00:38 | 4.4K | |
![]() | checksrc-summary.dcf | 24-Sep-2023 00:38 | 449 | |
![]() | install-out.txt | 24-Sep-2023 00:38 | 1.3K | |
![]() | install-summary.dcf | 24-Sep-2023 00:38 | 266 | |