Index of /checkResults/devel/bioc-LATEST/SubCellBarCode/raw-results
Name
Last modified
Size
Description
Parent Directory
-
info.dcf
07-Jul-2022 00:11
277
kjohnson/
07-Jul-2022 00:11
-
lconway/
07-Jul-2022 00:10
-
nebbiolo2/
07-Jul-2022 00:06
-
palomino4/
07-Jul-2022 00:08
-