Index of /checkResults/devel/bioc-LATEST/SubCellBarCode/raw-results/palomino4

[ICO]NameLast modifiedSizeDescription

[DIR]Parent Directory  -  
[TXT]buildbin-out.txt02-Jul-2022 00:06 1.2K 
[   ]buildbin-summary.dcf02-Jul-2022 00:06 575  
[TXT]buildsrc-out.txt02-Jul-2022 00:06 874  
[   ]buildsrc-summary.dcf02-Jul-2022 00:06 481  
[TXT]checksrc-out.txt02-Jul-2022 00:06 4.7K 
[   ]checksrc-summary.dcf02-Jul-2022 00:06 478  
[TXT]install-out.txt02-Jul-2022 00:06 1.9K 
[   ]install-summary.dcf02-Jul-2022 00:06 691