Index of /checkResults/devel/bioc-LATEST/SubCellBarCode/raw-results/nebbiolo2

[ICO]NameLast modifiedSizeDescription

[DIR]Parent Directory  -  
[TXT]buildsrc-out.txt28-Jun-2022 00:05 834  
[   ]buildsrc-summary.dcf28-Jun-2022 00:05 439  
[TXT]checksrc-out.txt28-Jun-2022 00:05 4.7K 
[   ]checksrc-summary.dcf28-Jun-2022 00:05 452  
[TXT]install-out.txt28-Jun-2022 00:05 1.0K 
[   ]install-summary.dcf28-Jun-2022 00:05 273