Index of /checkResults/devel/bioc-LATEST/SimBindProfiles/raw-results
Name
Last modified
Size
Description
Parent Directory
-
lconway/
30-Jun-2022 00:05
-
nebbiolo2/
30-Jun-2022 00:04
-
palomino4/
25-Jun-2022 00:07
-
info.dcf
30-Jun-2022 00:05
279