Index of /checkResults/devel/bioc-LATEST/SimBindProfiles/raw-results/nebbiolo1
Name
Last modified
Size
Description
Parent Directory
-
buildsrc-out.txt
29-Mar-2024 00:37
912
buildsrc-summary.dcf
29-Mar-2024 00:37
348
install-out.txt
29-Mar-2024 00:37
657
install-summary.dcf
29-Mar-2024 00:37
277