Index of /checkResults/devel/bioc-LATEST/SimBindProfiles/raw-results/palomino3
Name
Last modified
Size
Description
Parent Directory
-
buildsrc-out.txt
29-Mar-2024 00:38
972
buildsrc-summary.dcf
29-Mar-2024 00:38
391
install-out.txt
29-Mar-2024 00:38
640
install-summary.dcf
29-Mar-2024 00:38
286