Index of /checkResults/devel/bioc-LATEST/STROMA4/raw-results

[ICO]NameLast modifiedSizeDescription

[DIR]Parent Directory  -  
[   ]info.dcf18-Jan-2022 01:12 281  
[DIR]merida1/18-Jan-2022 01:12 -  
[DIR]nebbiolo1/18-Jan-2022 01:06 -  
[DIR]palomino3/18-Jan-2022 01:10 -  
[DIR]riesling1/18-Jan-2022 01:08 -