Index of /checkResults/devel/bioc-LATEST/STROMA4/raw-results/lconway

[ICO]NameLast modifiedSizeDescription

[DIR]Parent Directory  -  
[TXT]buildbin-out.txt01-Jul-2022 00:08 1.2K 
[   ]buildbin-summary.dcf01-Jul-2022 00:08 529  
[TXT]buildsrc-out.txt01-Jul-2022 00:08 816  
[   ]buildsrc-summary.dcf01-Jul-2022 00:08 427  
[TXT]checksrc-out.txt01-Jul-2022 00:08 3.2K 
[   ]checksrc-summary.dcf01-Jul-2022 00:08 443  
[TXT]install-out.txt01-Jul-2022 00:08 1.0K 
[   ]install-summary.dcf01-Jul-2022 00:08 268