Name | Last modified | Size | Description | |
---|---|---|---|---|
Parent Directory | - | |||
buildbin-out.txt | 05-Mar-2024 01:40 | 1.4K | ||
buildbin-summary.dcf | 05-Mar-2024 01:40 | 529 | ||
buildsrc-out.txt | 05-Mar-2024 01:40 | 816 | ||
buildsrc-summary.dcf | 05-Mar-2024 01:40 | 427 | ||
checksrc-out.txt | 05-Mar-2024 01:40 | 3.7K | ||
checksrc-summary.dcf | 05-Mar-2024 01:40 | 450 | ||
install-out.txt | 05-Mar-2024 01:40 | 1.2K | ||
install-summary.dcf | 05-Mar-2024 01:40 | 268 | ||