Index of /checkResults/devel/bioc-LATEST/RUVSeq/raw-results

[ICO]NameLast modifiedSizeDescription

[DIR]Parent Directory  -  
[DIR]palomino4/29-Sep-2023 00:38 -  
[DIR]nebbiolo2/29-Sep-2023 00:37 -  
[DIR]lconway/29-Sep-2023 00:39 -  
[DIR]kunpeng2/29-Sep-2023 00:41 -  
[   ]info.dcf29-Sep-2023 00:41 264