![]() | Name | Last modified | Size | Description |
---|---|---|---|---|
![]() | Parent Directory | - | ||
![]() | buildsrc-out.txt | 24-Sep-2023 00:36 | 802 | |
![]() | buildsrc-summary.dcf | 24-Sep-2023 00:36 | 414 | |
![]() | checksrc-out.txt | 24-Sep-2023 00:36 | 3.5K | |
![]() | checksrc-summary.dcf | 24-Sep-2023 00:36 | 410 | |
![]() | install-out.txt | 24-Sep-2023 00:36 | 949 | |
![]() | install-summary.dcf | 24-Sep-2023 00:36 | 257 | |