Index of /checkResults/devel/bioc-LATEST/Melissa/raw-results/kunpeng2

[ICO]NameLast modifiedSizeDescription

[DIR]Parent Directory  -  
[TXT]buildsrc-out.txt28-Nov-2023 01:39 815  
[   ]buildsrc-summary.dcf28-Nov-2023 01:39 427  
[TXT]checksrc-out.txt28-Nov-2023 01:39 3.6K 
[   ]checksrc-summary.dcf28-Nov-2023 01:39 447  
[TXT]install-out.txt28-Nov-2023 01:39 1.0K 
[   ]install-summary.dcf28-Nov-2023 01:39 268