Index of /checkResults/devel/bioc-LATEST/GenomicInteractions/raw-results/nebbiolo2

[ICO]NameLast modifiedSizeDescription

[DIR]Parent Directory  -  
[   ]install-summary.dcf24-Jul-2024 00:38 283  
[   ]buildsrc-summary.dcf24-Jul-2024 00:38 460  
[   ]checksrc-summary.dcf24-Jul-2024 00:38 462  
[TXT]buildsrc-out.txt24-Jul-2024 00:38 941  
[TXT]install-out.txt24-Jul-2024 00:38 1.0K 
[TXT]checksrc-out.txt24-Jul-2024 00:38 3.8K