Index of /checkResults/devel/bioc-LATEST/GenomicFeatures/raw-results/nebbiolo2

[ICO]NameLast modifiedSizeDescription

[DIR]Parent Directory  -  
[   ]install-summary.dcf19-Jul-2024 00:38 275  
[   ]checksrc-summary.dcf19-Jul-2024 00:38 446  
[   ]buildsrc-summary.dcf19-Jul-2024 00:38 447  
[TXT]install-out.txt19-Jul-2024 00:38 1.0K 
[TXT]buildsrc-out.txt19-Jul-2024 00:38 1.1K 
[TXT]checksrc-out.txt19-Jul-2024 00:38 4.8K