Index of /checkResults/devel/bioc-LATEST/GDSArray/raw-results/lconway

[ICO]NameLast modifiedSizeDescription

[DIR]Parent Directory  -  
[TXT]buildbin-out.txt23-Jul-2024 01:44 1.2K 
[   ]buildbin-summary.dcf23-Jul-2024 01:44 536  
[TXT]buildsrc-out.txt23-Jul-2024 01:44 820  
[   ]buildsrc-summary.dcf23-Jul-2024 01:44 430  
[TXT]checksrc-out.txt23-Jul-2024 01:44 4.0K 
[   ]checksrc-summary.dcf23-Jul-2024 01:44 454  
[TXT]install-out.txt23-Jul-2024 01:44 1.0K 
[   ]install-summary.dcf23-Jul-2024 01:44 271