Index of /checkResults/devel/bioc-LATEST/ExperimentHubData/raw-results/merida1

[ICO]NameLast modifiedSizeDescription

[DIR]Parent Directory  -  
[TXT]buildbin-out.txt29-Feb-2024 01:38 1.6K 
[   ]buildbin-summary.dcf29-Feb-2024 01:38 590  
[TXT]buildsrc-out.txt29-Feb-2024 01:38 856  
[   ]buildsrc-summary.dcf29-Feb-2024 01:38 455  
[TXT]checksrc-out.txt29-Feb-2024 01:38 3.6K 
[   ]checksrc-summary.dcf29-Feb-2024 01:38 490  
[TXT]install-out.txt29-Feb-2024 01:38 1.4K 
[   ]install-summary.dcf29-Feb-2024 01:38 289